BEGIN:VCALENDAR
VERSION:2.0
PRODID:icalendar-ruby
CALSCALE:GREGORIAN
METHOD:PUBLISH
BEGIN:VTIMEZONE
TZID:Australia/Sydney
BEGIN:DAYLIGHT
DTSTART:20261004T030000
TZOFFSETFROM:+1000
TZOFFSETTO:+1100
RRULE:FREQ=YEARLY;BYDAY=1SU;BYMONTH=10
TZNAME:AEDT
END:DAYLIGHT
BEGIN:STANDARD
DTSTART:20260405T020000
TZOFFSETFROM:+1100
TZOFFSETTO:+1000
RRULE:FREQ=YEARLY;BYDAY=1SU;BYMONTH=4
TZNAME:AEST
END:STANDARD
END:VTIMEZONE
BEGIN:VEVENT
DTSTAMP:20260420T061650Z
UID:inspection_3005048
DTSTART;TZID=Australia/Sydney:20260425T090000
DTEND;TZID=Australia/Sydney:20260425T091500
CLASS:PUBLIC
CREATED:20260420T133457
DESCRIPTION: 
LAST-MODIFIED:20260420T133457
LOCATION:17 PETERS PLACE\, MAROUBRA NSW 2035\, Australia
SUMMARY:17 PETERS PLACE\,  Inspection
URL;VALUE=URI:http://www.papg.com.au
END:VEVENT
END:VCALENDAR
